BEGIN:VCALENDAR
VERSION:2.0
PRODID:-//Agenda Bulle//https://agendabulle.fr//
BEGIN:VEVENT
SUMMARY:Temps des Histoires Kateb Yacine
DTSTART;TZID=Europe/Paris:20260506T160000
DTEND;TZID=Europe/Paris:20260506T180000
DTSTAMP:20260424T031630Z
UID:6d2605ac7ae994d6b22723ffac065f5a@agendabulle.fr
DESCRIPTION:Venez écouter des histoires\, partager des comptines et des c
 hansons.Chaque séance sera suivie d'un atelier créatif ou d'une séance 
 de jeux.À partir de 3 ans.\nhttps://www.agendabulle.fr/event/2026/5/6/247
 4-temps-des-histoires-kateb-yacine\nhttps://bm-grenoble.fr/Default/doc/CAL
 ENDAR/1864/temps-des-histoires-kateb-yacine
IMAGE;VALUE=URI:https://www.agendabulle.fr/media/5aa9e0c4-1879-4dca-8e1c-4
 a02a2d4f819.jpg
LOCATION:Bibliothèque Kateb Yacine\, 1 Cour des Erables\, 38100 Grenoble\
 , Grenoble
NAME:Temps des Histoires Kateb Yacine
END:VEVENT
END:VCALENDAR
