BEGIN:VCALENDAR
VERSION:2.0
PRODID:-//Agenda Bulle//https://agendabulle.fr//
BEGIN:VEVENT
SUMMARY:Les ateliers créatifs
DTSTART;TZID=Europe/Paris:20260506T150000
DTEND;TZID=Europe/Paris:20260506T170000
DTSTAMP:20260424T031630Z
UID:440cbcf7a79024a350cbce505013baf9@agendabulle.fr
DESCRIPTION:Des ateliers créatifs pour libérer votre créativité et par
 tager un moment convivial !Que vous soyez jeune ou moins jeune\, venez exp
 lorer une multitude de thématiques et de supports variés.\nhttps://www.a
 gendabulle.fr/event/2026/5/6/2473-les-ateliers-creatifs\nhttps://bm-grenob
 le.fr/Default/doc/CALENDAR/2066/les-ateliers-creatifs
IMAGE;VALUE=URI:https://www.agendabulle.fr/media/167b8783-ace9-477e-a655-7
 0a1bf90158a.jpg
LOCATION:Bibliothèque Colombine\, 97 Gal de l'Arlequin\, 38100 Grenoble\,
  Grenoble
NAME:Les ateliers créatifs
END:VEVENT
END:VCALENDAR
