BEGIN:VCALENDAR
VERSION:2.0
PRODID:-//Agenda Bulle//https://agendabulle.fr//
BEGIN:VEVENT
SUMMARY:Temps des histoires Mimi Mingat-Lerme
DTSTART;TZID=Europe/Paris:20260506T103000
DTEND;TZID=Europe/Paris:20260506T123000
DTSTAMP:20260424T031630Z
UID:4dbb6be407319adcb40166cf2d3c79a8@agendabulle.fr
DESCRIPTION:Un temps pour lire\, écouter et découvrir des histoires.Pour
  les enfants jusqu'à 3 ans.\nhttps://www.agendabulle.fr/event/2026/5/6/24
 72-temps-des-histoires-mimi-mingat-lerme\nhttps://bm-grenoble.fr/Default/d
 oc/CALENDAR/1880/temps-des-histoires-mimi-mingat-lerme
IMAGE;VALUE=URI:https://www.agendabulle.fr/media/e9f0f767-892b-424b-9785-a
 dcb27c28107.jpg
LOCATION:Bibliothèque Mimi Mingat-Lerme\, 1 Rue de la Bajatière\, 38100 
 Grenoble\, Grenoble
NAME:Temps des histoires Mimi Mingat-Lerme
END:VEVENT
END:VCALENDAR
