BEGIN:VCALENDAR
VERSION:2.0
PRODID:-//AgendaBulle//https://agendabulle.fr//
BEGIN:VEVENT
SUMMARY:Quelle écologie dans les quartiers populaires ?
DTSTART;TZID=Europe/Paris:20260506T180000
DTEND;TZID=Europe/Paris:20260506T200000
DTSTAMP:20260420T230903Z
UID:add2498dbf92a0983b6a9701e04232a5@agendabulle.fr
DESCRIPTION: 📖 À l’occasion de la sortie du livre de David Bodinier 
 « La Fabrique de l’écologie populaire »\, Le Barathym organise une so
 irée de rencontre\, d’échange et de débat sur l'écologie dans les qu
 artiers populaires\n\n📅 Mercredi 6 mai 2026\n🕕 18h – 21h\n📍 Bar
 athym – Grenoble\n🥗 Suivi d’un buffet convivial\n\nAu programme :\n
 — Présentation du livre\n— Discussion autour de l’écologie populai
 re\n— Échanges ouverts avec le public\n\n👉 Entrée libre et gratuite
  – ouvert à toutes et tous\nhttp://www.agendabulle.fr/event/2026/5/6/23
 59-quelle-ecologie-dans-les-quartiers-populaires\nhttps://www.facebook.com
 /events/1563509018050789/
IMAGE;VALUE=URI:http://www.agendabulle.fr/media/3ee3326b-761d-43f5-8ab0-5c
 c7f9fa124d.jpg
LOCATION:Barathym\, 97 Galerie de l'Arlequin\, Grenoble
NAME:Quelle écologie dans les quartiers populaires ?
END:VEVENT
END:VCALENDAR
