BEGIN:VCALENDAR
VERSION:2.0
PRODID:-//AgendaBulle//https://agendabulle.fr//
BEGIN:VEVENT
SUMMARY:Echangisme littéraire d'Antigone
DTSTART;TZID=Europe/Paris:20260506T190000
DTEND;TZID=Europe/Paris:20260506T210000
DTSTAMP:20260420T131837Z
UID:7aa9ec6bd1fc59bfcae8c9c6cddf95eb@agendabulle.fr
DESCRIPTION:Oyez oyez\, vous qui vous morfondez\, tout triste dans votre c
 anapé\, à l’échangisme littéraire\, n’hésitez plus\, venez ! Ven
 ez échanger autour d’un bouquin\, Venez faire découvrir aux autres vos
  coups de cœur\, Venez sans haine et sans crainte\, Venez\, vous y trouve
 rez le bonheur\n\nTout livre accepté : roman\, bande dessinée\, manga\,
  comics\, conte\, essai\, théâtre\, poésie\, et bien plus encore ! (yo
 upi) Chaque premier mercredi du mois\, (youpi !) à la bibliothèque d’
 Antigone\, (youpi !) Sur des fauteuils très sympas\, (youpi !)\n\nEt po
 ur vous faire une idée\, vous pouvez retrouver ici les livraisons des der
 niers échangismes littéraires (youpi !).\nhttp://www.agendabulle.fr/eve
 nt/2026/5/6/2314-echangisme-litteraire-dantigone\nhttps://www.le-tamis.inf
 o/evenement/echangisme-litteraire-dantigone-4
LOCATION:Antigone\, 22 Rue des Violettes\, Grenoble
NAME:Echangisme littéraire d'Antigone
END:VEVENT
END:VCALENDAR
