BEGIN:VCALENDAR
VERSION:2.0
PRODID:-//AgendaBulle//https://agendabulle.fr//
BEGIN:VEVENT
SUMMARY:COURS DE DESSIN
DTSTART;TZID=Europe/Paris:20260506T180000
DTEND;TZID=Europe/Paris:20260506T200000
DTSTAMP:20260420T024115Z
UID:7b22f6a09c6a36f6df4eeb3cf8d557c8@agendabulle.fr
DESCRIPTION:Cet atelier est à destination de toute personne qui souhaite 
 dessiner sans chercher la performance. Des exercices simples seront propos
 és pour pratiquer le dessin en se détendant. Le but est d’apprendre à
  regarder et de créer des échanges avec les autres participant·es.\n\nT
 arif : Prix Libre\nhttp://www.agendabulle.fr/event/2026/5/6/2184-cours-de-
 dessin\nhttps://le-ciel.fr/event/cours-de-dessin-4/
IMAGE;VALUE=URI:http://www.agendabulle.fr/media/d9f0260c-f45d-44a4-99f1-e6
 3431e4f12e.jpg
LOCATION:Le Ciel\, 2 Rue Général Marchand\, Grenoble
NAME:COURS DE DESSIN
END:VEVENT
END:VCALENDAR
