BEGIN:VCALENDAR
VERSION:2.0
PRODID:-//AgendaBulle//https://agendabulle.fr//
BEGIN:VEVENT
SUMMARY:LE COMITÉ DES FÊTES ⌜musique du monde festive⌟
DTSTART;TZID=Europe/Paris:20260506T203000
DTEND;TZID=Europe/Paris:20260506T223000
DTSTAMP:20260420T022321Z
UID:3dc08f0b8921f30408b976ade282b532@agendabulle.fr
DESCRIPTION:Formation familiale (2 Tontons\, 3 Neveux). \n\nLa Réunion\, 
 Amérique latine\, Afrique du Nord\, Espagne\, Cap Vert\, Québec.\n\nGuit
 are\, Basse\, saxophones\, percussions et bonne humeur pour une soirée en
  famille. C’est que de l’amour !!\n\n⤷ Pour les oreilles : https://w
 ww.youtube.com/watch?v=oG9U0CT9n8o\n\n▸▹▸▹ Concert à prix libre 
 ◃◂◃◂\n\nPour permettre à tout le monde d'y assister ! Mais sans t
 a participation\, les artistes ne seront pas payés pour leur travail. Alo
 rs\, n'oublies pas de prendre un peu de monnaie <3\nhttp://www.agendabulle
 .fr/event/2026/5/6/2129-le-comite-des-fetes-musique-du-monde-festive\nhttp
 s://www.facebook.com/events/943102178436317/
LOCATION:Trankilou\, 45 Bd Joseph Vallier\, Grenoble
NAME:LE COMITÉ DES FÊTES ⌜musique du monde festive⌟
END:VEVENT
END:VCALENDAR
