BEGIN:VCALENDAR
VERSION:2.0
PRODID:-//Agenda Bulle//https://agendabulle.fr//
BEGIN:VEVENT
SUMMARY:Programme de formation • Mix/DJ Perfectionnement 
DTSTART;TZID=Europe/Paris:20260504T183000
DTEND;TZID=Europe/Paris:20260504T203000
DTSTAMP:20260424T091751Z
UID:b163fccb0ee8c694f68737e894cc079a@agendabulle.fr
DESCRIPTION:𝗣𝗿𝗼𝗴𝗿𝗮𝗺𝗺𝗲 𝗱𝗲 𝗳𝗼𝗿𝗺
 𝗮𝘁𝗶𝗼𝗻 • 𝗠𝗶𝘅/𝗗𝗝 𝗣𝗲𝗿𝗳𝗲𝗰
 𝘁𝗶𝗼𝗻𝗻𝗲𝗺𝗲𝗻𝘁\n\nThe DARE night et La Belle Él
 ectrique s’associent pour accompagner 6 à 8 Djs isérois.e.s sur deux s
 éances de formation « mix/dj perfectionnement » et deux séances d’en
 trainement supervisées au Labo de La Belle ! L'occasion pour les dj ayant
  déjà une pratique régulière du DJing (et avec une légère expérienc
 e sur platines à minima) d'être accompagné.e.s par l'équipe de TDN dan
 s leur pratique\, la construction et le perfectionnement de leur set.\n
 𝗢𝗯𝗷𝗲𝗰𝘁𝗶𝗳 𝗳𝗶𝗻𝗮𝗹 ➡️ Une restituti
 on sous forme de Dressing Club\, au bar de La Belle le 3 juin 2026 !\n\n--
 ------------------------\n🔸 En savoir plus : https://www.la-belle-elect
 rique.com/fr/agenda/formation-perfectionnement-mix-dj-26\n🎫 Billetterie
  : Inscriptions par mail à accompagnement@la-belle-electrique.com\n\n▬
 ▬▬▬ INFOS PRATIQUES ▬▬▬▬\n• Formation les 4 et 18 mai de 1
 8h30 à 21h30 / Restitution le 03 juin au bar de La Belle\n• Intervenant
 s :  MAZAIR\n• A destination des DJs amateur.rice.s ayant une pratique r
 égulière et une légère expérience sur platines\n• Places limitées\
 n• Au Labo de La Belle : 51 Boulevard Gambetta\, Grenoble\nhttps://www.a
 gendabulle.fr/event/2026/5/4/2532-programme-de-formation-mixdj-perfectionn
 ement\nhttps://www.facebook.com/events/2438537103262373/
IMAGE;VALUE=URI:https://www.agendabulle.fr/media/a6edea36-5f24-4de9-86b0-1
 4a2c8e76276.jpg
LOCATION:La belle electrique\, 12 esplanade Andry Farcy\, Grenoble
NAME:Programme de formation • Mix/DJ Perfectionnement 
END:VEVENT
END:VCALENDAR
