BEGIN:VCALENDAR
VERSION:2.0
PRODID:-//AgendaBulle//https://agendabulle.fr//
BEGIN:VEVENT
SUMMARY:PORTES OUVERTES
DTSTART;TZID=Europe/Paris:20260530T150000
DTEND;TZID=Europe/Paris:20260530T170000
DTSTAMP:20260420T024116Z
UID:15b5e4c126287a9dd09cd851f0c73b76@agendabulle.fr
DESCRIPTION:Le Ciel ouvre à nouveau grand ses portes ! Une journée qui m
 et en avant les musicien·nes\, mais aussi les autres activités du Ciel. 
 Avec des ateliers\, une émission radio en direct\, des gaufres et des con
 certs tout l’après-midi ! Pour cet événement\, c’est une douzaine d
 e groupes de résident·es du Ciel\, ainsi que des groupes qui répètent 
 dans nos studios qui se produiront toute l’après-midi dans les studios 
 du Ciel. C’est l’occasion idéale de plonger dans l’univers du Ciel 
 !\n\nTarif : Gratuit\nhttp://www.agendabulle.fr/event/2026/5/30/2185-porte
 s-ouvertes\nhttps://le-ciel.fr/event/portes-ouvertes-2/
IMAGE;VALUE=URI:http://www.agendabulle.fr/media/8d28b3dc-6ca4-4229-a59e-fc
 6833f93040.jpg
LOCATION:Le Ciel\, 2 Rue Général Marchand\, Grenoble
NAME:PORTES OUVERTES
END:VEVENT
END:VCALENDAR
