BEGIN:VCALENDAR
VERSION:2.0
PRODID:-//AgendaBulle//https://agendabulle.fr//
BEGIN:VEVENT
SUMMARY:Festival Magic Bus / Concerts
DTSTART;VALUE=DATE:20260529
DTEND;VALUE=DATE:20260530
DTSTAMP:20260422T223021Z
UID:b0be2ed7ac2417f54b79644bc3a6e0cf@agendabulle.fr
DESCRIPTION:Le festival Magic Bus fête sa 25ème édition ! Porté par l
 ’association Retour de Scène\, cet événement incontournable des musiq
 ues actuelles met à l’honneur une scène nationale et émergente\, dans
  une ambiance conviviale et inclusive. Au programme : deux soirées riches
  en découvertes avec notamment Adèle Castillon \, Suzane \, Odezenne \, 
 Luiza \, Bernadette \, Ada Oda \, Blue Killa ou encore Yot Tnt \, ainsi qu
 ’une scène extérieure gratuite le samedi après-midi avec Deklicat \, 
 Ness et MTOE . Retrouvez le programme et les horaires détaillés par jour
 \, sur le site retourdescene.net ! Infos pratiques : 50 places offertes au
 x étudiants et étudiantes (une place par personne). Réservez votre plac
 e dès maintenant ! Crédits photo : © Festival Magic Bus © Retour de S
 cène\nhttp://www.agendabulle.fr/event/2026/5/29/2415-festival-magic-bus-c
 oncerts\nhttps://www.univ-grenoble-alpes.fr/actualites/agenda/agenda-cultu
 re/festival-magic-bus-concerts-1747746.kjsp
IMAGE;VALUE=URI:http://www.agendabulle.fr/media/05447a28-eab4-487c-9ea9-c9
 65f8d46be5.jpg
LOCATION:Grenoble - Centre ville Palais des Sport Pierre-Mendès-France 14
  boulevard Clémenceau Grenoble Tram C\, Grenoble Hôtel de Ville\, ou Fla
 ndrin Valmy
NAME:Festival Magic Bus / Concerts
END:VEVENT
END:VCALENDAR
