BEGIN:VCALENDAR
VERSION:2.0
PRODID:-//AgendaBulle//https://agendabulle.fr//
BEGIN:VEVENT
SUMMARY:Marmelade\, toast et champignons / Théâtre
DTSTART;TZID=Europe/Paris:20260528T190000
DTEND;TZID=Europe/Paris:20260528T210000
DTSTAMP:20260422T223020Z
UID:cec7ab7d9c0085db01f3a506f88e6702@agendabulle.fr
DESCRIPTION:Tout commence par une colocation de trois chapeaux pointus\, s
 orcières contemporaines en cohabitation. Alors qu’elles sont au plus ba
 s de leurs capacités magiques\, elles reçoivent une lettre de la LSSDE\,
  Ligue du Savoir si Spécial et presque Démoniaque des Ensorceleuses. Il 
 leur faut envoyer au plus vite leur bilan occulte annuel. Mais\, au fait\,
  qu'ont-elles encore de magique ? Et la magie\, existe-t-elle toujours ? C
 omment la retrouver ? Comment continuer d'y croire ? Cette pièce de thé
 âtre du collectif étudiant Théâtromanie évoque l’absence de rêve\,
  l’oubli\, le passage à l’âge adulte\, la sororité et la réappropr
 iation de la figure de la sorcière. Infos pratiques : Événement gratuit
 \, sur réservation\, ouvert à toutes et tous. Réservez vos places dès 
 maintenant ! Crédits photo : © Marie Gasquet\nhttp://www.agendabulle.fr/
 event/2026/5/28/2414-marmelade-toast-et-champignons-theatre\nhttps://www.u
 niv-grenoble-alpes.fr/actualites/agenda/agenda-culture/marmelade-toast-et-
 champignons-theatre-1747721.kjsp
IMAGE;VALUE=URI:http://www.agendabulle.fr/media/537421dd-b9cb-4349-9427-f6
 1a8e8cc122.jpg
LOCATION:Amphidice\, 1316 Rue des Résidences\, Saint-Martin-d'Hères
NAME:Marmelade\, toast et champignons / Théâtre
END:VEVENT
END:VCALENDAR
