BEGIN:VCALENDAR
VERSION:2.0
PRODID:-//AgendaBulle//https://agendabulle.fr//
BEGIN:VEVENT
SUMMARY:Tournoi de coinche !
DTSTART;TZID=Europe/Paris:20260526T190000
DTEND;TZID=Europe/Paris:20260526T210000
DTSTAMP:20260422T223458Z
UID:9e1b9be64dc6197438ae5fe9883d7a20@agendabulle.fr
DESCRIPTION:Viens participer à notre tournoi de coinche mensuel !\n\nTous
  les derniers mardis du mois\, La Bouillotte te propose de venir tester te
 s skills de coinche lors d'un tournoi convivial ! Que tu sois débutant.e 
 ou joueur.euse confirmé.e\, tu es le.la bienvenu.e ! A gagner : un verre
  et un tapas à partager avec ton.ta coéquipier.e :) Alors plus d'excuses
 \, on t'attend tous les derniers mardis du mois !\nhttp://www.agendabulle.
 fr/event/2026/5/26/2428-tournoi-de-coinche\nhttps://labouillotte38.wixsite
 .com/la-bouillotte/event-details/tournoi-de-coinche-1
IMAGE;VALUE=URI:http://www.agendabulle.fr/media/59863469-a956-4235-bf5e-f0
 3f8ca115e7.jpg
LOCATION:La Bouillotte\, 21 Rue Boucher de Perthes\, 38000 Grenoble\, Gren
 oble
NAME:Tournoi de coinche !
END:VEVENT
END:VCALENDAR
