BEGIN:VCALENDAR
VERSION:2.0
PRODID:-//AgendaBulle//https://agendabulle.fr//
BEGIN:VEVENT
SUMMARY:Café sans-frontières
DTSTART;TZID=Europe/Paris:20260526T090000
DTEND;TZID=Europe/Paris:20260526T110000
DTSTAMP:20260422T222049Z
UID:0e9913bf2db6b5a084f214d821c82d5e@agendabulle.fr
DESCRIPTION:Le café sans-frontières est un moment convivial qui se déro
 ule tous les mardis matin à la Maison des Habitant-es Prémol. Le but est
  de se retrouver pour partager un moment et s'entraîner à parler frança
 is. C'est la porte d'entrée pour les cours de français qui sont organis
 és en ateliers socio-linguistiques (ASL). 7 Rue Henry Duhamel 38100 Greno
 ble Secteur 6\nhttp://www.agendabulle.fr/event/2026/5/26/2405-cafe-sans-fr
 ontieres\nhttps://www.grenoble.fr/agenda/6192/622-cafe-sans-frontieres.htm
IMAGE;VALUE=URI:http://www.agendabulle.fr/media/56b7baad-cf5c-4cfe-8531-84
 61cadcaa7f.jpg
LOCATION:Maison des Habitant-es Prémol\, 7 Rue Henry Duhamel 38100 Grenob
 le\, Grenoble
NAME:Café sans-frontières
END:VEVENT
END:VCALENDAR
