BEGIN:VCALENDAR
VERSION:2.0
PRODID:-//AgendaBulle//https://agendabulle.fr//
BEGIN:VEVENT
SUMMARY:Atelier parent-enfant "Vannerie"
DTSTART;TZID=Europe/Paris:20260523T120000
DTEND;TZID=Europe/Paris:20260523T140000
DTSTAMP:20260420T025205Z
UID:cb5662c88a8456282db87c9be8d5a5e7@agendabulle.fr
DESCRIPTION:L'association Horizons propose aux familles une découverte et
  initiation à la vannerie !\n\nDans le jardin partagé des Aiguinards\,  
 venez créer des décorations à suspendre.\n\nAu programme :\nhttp://www.
 agendabulle.fr/event/2026/5/23/2103-atelier-parent-enfant-vannerie\nhttps:
 //www.meylan.fr/agenda/1969/41-atelier-parent-enfant-vannerie.htm?ID_AGEND
 APERIODE=3609
IMAGE;VALUE=URI:http://www.agendabulle.fr/media/f54450fb-132b-4ac7-92fe-64
 0687028847.jpg
LOCATION:Association Horizons\, 16 rue des Aiguinards meylan\, Meylan
NAME:Atelier parent-enfant "Vannerie"
END:VEVENT
END:VCALENDAR
