BEGIN:VCALENDAR
VERSION:2.0
PRODID:-//AgendaBulle//https://agendabulle.fr//
BEGIN:VEVENT
SUMMARY:Versant Rupal – Compagnie Jusqu'à m'y fondre
DTSTART;TZID=Europe/Paris:20260523T200000
DTEND;TZID=Europe/Paris:20260523T220000
DTSTAMP:20260420T025213Z
UID:646894e2fd79ebb2ef7bd7b62993c5d1@agendabulle.fr
DESCRIPTION:ÉCRITURE MALI VAN VALENBERG MISE EN SCÈNE OLIVIER WERNER COM
 PAGNIE JUSQU’À M’Y FONDRE\n\nJuin 1970 en Himalaya. Reinhold Messner\
 , légende de l’alpinisme et son petit frère Günther\, s’attaquent p
 ar le versant Rupal à un sommet de 8125m\, le Nanga Parbat. Pressé par l
 e mauvais temps\, Reinhold entreprend en solo cette ascension vertigineuse
  mais le voilà bientôt rattrapé par une ombre : celle de Günther\, qui
  contre toute attente\, s’est lancé à sa poursuite… Interprété par
  trois comédien-nes narrateur-rices et un percussionniste en live\, ce r
 écit nous plonge au cœur d’une histoire poignante\, entre adrénaline 
 des grands sommets\, fraternité et folie humaine. C’est dans un décor 
 envoûtant que cet hymne à l’obsession redonne à la nature son droit d
 e vie ou de mort sur ces hommes\, certes exceptionnels\, mais malgré tout
  vulnérables.\n\nAvec Pierre-Isaïe Duc\, Céline Goormaghtigh\, Didier M
 étrailler musique\, Mali Van Valenberg\n\nDans le cadre du festival des A
 rts du Récit\n\nTournée régionale mutualisée pour l’impact écologiq
 ue et le confort des artistes\n\nDécouvrez le teaser vidéo du spectacle 
 Versant Rupal.\nhttp://www.agendabulle.fr/event/2026/5/23/2045-versant-rup
 al-compagnie-jusqua-my-fondre\nhttps://www.grenoble.fr/agenda/4285/45-vers
 ant-rupal-compagnie-jusqu-a-m-y-fondre.htm
IMAGE;VALUE=URI:http://www.agendabulle.fr/media/c6cd2f41-9f26-412b-82b8-cd
 f13b17c089.jpg
LOCATION:TMG - Théâtre municipal de Grenoble\, 4 Rue Hector Berlioz\, 38
 000 Grenoble\, Grenoble
NAME:Versant Rupal – Compagnie Jusqu'à m'y fondre
END:VEVENT
END:VCALENDAR
