BEGIN:VCALENDAR
VERSION:2.0
PRODID:-//Agenda Bulle//https://agendabulle.fr//
BEGIN:VEVENT
SUMMARY:SOS numothèque
DTSTART;TZID=Europe/Paris:20260522T170000
DTEND;TZID=Europe/Paris:20260522T190000
DTSTAMP:20260426T031622Z
UID:b2262ca75abeb9e9f0afecc1c69f99c4@agendabulle.fr
DESCRIPTION:Vous souhaitez utiliser la numothèque\, votre bibliothèque n
 umérique métropolitaine\, mais ne savez pas par où commencer ? Vous ren
 contrez une difficulté pour lire les livres numériques\, visionner des f
 ilms\, accéder à l’application de musique en ligne ...\nhttps://www.ag
 endabulle.fr/event/2026/5/22/2572-sos-numotheque\nhttps://bm-grenoble.fr/D
 efault/doc/CALENDAR/2353/sos-numotheque
IMAGE;VALUE=URI:https://www.agendabulle.fr/media/a9e2b5d7-f787-4689-87ad-b
 ef6c0458b93.jpg
LOCATION:Bibliothèque d’étude et du patrimoine\, 12 Bd Maréchal Lyaut
 ey 38000 Grenoble\, Grenoble
NAME:SOS numothèque
END:VEVENT
END:VCALENDAR
