BEGIN:VCALENDAR
VERSION:2.0
PRODID:-//Agenda Bulle//https://agendabulle.fr//
BEGIN:VEVENT
SUMMARY:Club lecture Gisèle Halimi
DTSTART;TZID=Europe/Paris:20260522T170000
DTEND;TZID=Europe/Paris:20260522T190000
DTSTAMP:20260426T031622Z
UID:4dedfd7ee349ebd2cb743a53d4b1b183@agendabulle.fr
DESCRIPTION:Envie de participer ? Renseignez-vous auprès des bibliothéca
 ires.\nhttps://www.agendabulle.fr/event/2026/5/22/2571-club-lecture-gisele
 -halimi\nhttps://bm-grenoble.fr/Default/doc/CALENDAR/2082/club-lecture-gis
 ele-halimi
IMAGE;VALUE=URI:https://www.agendabulle.fr/media/dc914b56-56ee-4a6b-94f1-9
 d2c8dcda46e.jpg
LOCATION:Bibliothèque Gisèle Halimi\, 8 Pl. Saint-Bruno\, 38000 Grenoble
 \, Grenoble
NAME:Club lecture Gisèle Halimi
END:VEVENT
END:VCALENDAR
