BEGIN:VCALENDAR
VERSION:2.0
PRODID:-//Agenda Bulle//https://agendabulle.fr//
BEGIN:VEVENT
SUMMARY:Club lecture Mimi Mingat-Lerme
DTSTART;TZID=Europe/Paris:20260522T170000
DTEND;TZID=Europe/Paris:20260522T190000
DTSTAMP:20260426T031622Z
UID:acb3eeb7b930d3ccfe11a27f9a96757c@agendabulle.fr
DESCRIPTION:Vous aimez lire ? Ça tombe bien\, nous aussi !Envie de partic
 iper ? Renseignez-vous auprès des bibliothécaires.\nhttps://www.agendabu
 lle.fr/event/2026/5/22/2570-club-lecture-mimi-mingat-lerme\nhttps://bm-gre
 noble.fr/Default/doc/CALENDAR/1817/club-lecture-mimi-mingat-lerme
IMAGE;VALUE=URI:https://www.agendabulle.fr/media/9a1cdba3-8669-46d6-9f53-3
 85a8bd222cb.jpg
LOCATION:Bibliothèque Mimi Mingat-Lerme\, 1 Rue de la Bajatière\, 38100 
 Grenoble\, Grenoble
NAME:Club lecture Mimi Mingat-Lerme
END:VEVENT
END:VCALENDAR
