BEGIN:VCALENDAR
VERSION:2.0
PRODID:-//Agenda Bulle//https://agendabulle.fr//
BEGIN:VEVENT
SUMMARY:SOS numothèque
DTSTART;TZID=Europe/Paris:20260522T160000
DTEND;TZID=Europe/Paris:20260522T180000
DTSTAMP:20260426T031622Z
UID:0c55e459e4e160374b035da92faeaf61@agendabulle.fr
DESCRIPTION:Vous souhaitez utiliser la numothèque\, votre bibliothèque n
 umérique métropolitaine\, mais ne savez pas par où commencer ? Vous ren
 contrez une difficulté pour lire les livres numériques\, visionner des f
 ilms\, accéder à l’application de musique en ligne ...\nhttps://www.ag
 endabulle.fr/event/2026/5/22/2569-sos-numotheque\nhttps://bm-grenoble.fr/D
 efault/doc/CALENDAR/2354/sos-numotheque
IMAGE;VALUE=URI:https://www.agendabulle.fr/media/1293cc03-0a60-4695-bef3-f
 d54aa89d2be.jpg
LOCATION:Bibliothèque d’étude et du patrimoine\, 12 Bd Maréchal Lyaut
 ey 38000 Grenoble\, Grenoble
NAME:SOS numothèque
END:VEVENT
END:VCALENDAR
