BEGIN:VCALENDAR
VERSION:2.0
PRODID:-//Agenda Bulle//https://agendabulle.fr//
BEGIN:VEVENT
SUMMARY:SOS numothèque
DTSTART;TZID=Europe/Paris:20260522T150000
DTEND;TZID=Europe/Paris:20260522T170000
DTSTAMP:20260426T031622Z
UID:815c41d25bc887947511ee778ed984e2@agendabulle.fr
DESCRIPTION:Vous souhaitez utiliser la numothèque\, votre bibliothèque n
 umérique métropolitaine\, mais ne savez pas par où commencer ? Vous ren
 contrez une difficulté pour lire les livres numériques\, visionner des f
 ilms\, accéder à l’application de musique en ligne ...\nhttps://www.ag
 endabulle.fr/event/2026/5/22/2568-sos-numotheque\nhttps://bm-grenoble.fr/D
 efault/doc/CALENDAR/2355/sos-numotheque
IMAGE;VALUE=URI:https://www.agendabulle.fr/media/e059bb52-28d6-4227-9a77-0
 fa81309a531.jpg
LOCATION:Bibliothèque d’étude et du patrimoine\, 12 Bd Maréchal Lyaut
 ey 38000 Grenoble\, Grenoble
NAME:SOS numothèque
END:VEVENT
END:VCALENDAR
