BEGIN:VCALENDAR
VERSION:2.0
PRODID:-//Agenda Bulle//https://agendabulle.fr//
BEGIN:VEVENT
SUMMARY:SOS numothèque
DTSTART;TZID=Europe/Paris:20260522T140000
DTEND;TZID=Europe/Paris:20260522T160000
DTSTAMP:20260426T031621Z
UID:9995a3fcb1910a06822751585c4d42f6@agendabulle.fr
DESCRIPTION:Vous souhaitez utiliser la numothèque\, votre bibliothèque n
 umérique métropolitaine\, mais ne savez pas par où commencer ? Vous ren
 contrez une difficulté pour lire les livres numériques\, visionner des f
 ilms\, accéder à l’application de musique en ligne ...\nhttps://www.ag
 endabulle.fr/event/2026/5/22/2567-sos-numotheque\nhttps://bm-grenoble.fr/D
 efault/doc/CALENDAR/2351/sos-numotheque
IMAGE;VALUE=URI:https://www.agendabulle.fr/media/f8c3d86d-66e1-4ee8-89c4-0
 22751116a9b.jpg
LOCATION:Bibliothèque d’étude et du patrimoine\, 12 Bd Maréchal Lyaut
 ey 38000 Grenoble\, Grenoble
NAME:SOS numothèque
END:VEVENT
END:VCALENDAR
