BEGIN:VCALENDAR
VERSION:2.0
PRODID:-//AgendaBulle//https://agendabulle.fr//
BEGIN:VEVENT
SUMMARY:Fraiseuse numérique
DTSTART;TZID=Europe/Paris:20260522T100000
DTEND;TZID=Europe/Paris:20260522T170000
DTSTAMP:20260422T222107Z
UID:b91820c15ee24f69a3e28644346aaacf@agendabulle.fr
DESCRIPTION:Description de l’initiation :    Les deux machines utilisée
 s lors de l’initiation - la fraiseuse numérique ShopBot PRS Standard et
  la fraiseuse numérique Forest Scientific - sont des fraiseuses 3 axes\, 
 idéales pour l'usinage de pièces de grandes dimensions. De la réalisati
 on d'une chaise ou d'un meuble à la construction d'une maison ou d'un ass
 emblage immense\, le ShopBot ouvre de nombreuses portes à votre imaginati
 on\, quand la plus petite vous permettra de fabriquer vos guides\, outils 
 ou autres pièces techniques avec précision !    Compétences acquises : 
     Après cette initiation\, vous serez capable de :      Comprendre le f
 onctionnement d'une fraiseuse numérique 3 axes    Préparer et importer u
 n fichier de découpe adapté    Choisir les bons outils de fraisage (frai
 ses\, vitesses\, profondeurs)    Lancer une opération d'usinage en toute 
 sécurité    Utiliser les interfaces des machines ShopBot et Forest Scien
 tific    Réaliser une première pièce simple en autonomie    Maîtriser 
 le logiciel de CAO professionnel VCarve Pro.    Machine(s) à utiliser  : 
     → Fraiseuse numérique ShopBot PRS Standard (grande fraiseuse)      
 Caractéristiques techniques      Surface maximale de travail: 2440x1220x1
 50 (Z) mm    Résolution mécanique : 0\,015 mm    Précision de la positi
 on : +/- 0\,127mm        → Fraiseuse numérique Forest Scientific (petit
 e fraiseuse)      Caractéristiques techniques :       Surface maximale de
  travail: 440x650x200 (Z) mm    Résolution mécanique: 0\,02 mm        Ma
 tériaux utilisables :  le bois (contreplaqué\, massif)\, le plastique\, 
 le plexiglass PMMA\, le laiton\, des métaux souples (zinc\, aluminium et 
 cuivre) et bien d'autres…    Choix des fraises : Les fraises varient en 
 fonction des matériaux travaillés avec des coûts d’achat à prendre e
 n compte.      Matériaux interdits :  Attention : ces machines ne permett
 ent pas l’usinage des métaux denses (fer\, or\, argent) !    Machine(s)
  accessible(s) après cette initiation :     Vous devez avoir a minima eff
 ectué cette initiation pour pouvoir utiliser les machines suivantes au Fa
 b Lab :      Fraiseuse numérique ShopBot PRS Standard    Fraiseuse numér
 ique Forest Scientific    Public visé : +16 ans    Durée : Toute la jour
 née (de 10h à 12h15 et de 13h15 à 17h)    Lieu : Fab Lab de La Casemate
     Tarif : 81€    Prérequis : Avoir des connaissances sur ce qu’est 
 un dessin vectoriel. La maîtrise d’un logiciel de dessin vectoriel 2D o
 u 3D est un plus.    Inscription    N'hésitez pas à contacter directemen
 t La Casemate par téléphone pour vous inscrire sur liste d'attente si la
  formation est complète\, ou pour obtenir des informations sur les machin
 es et les matériaux utilisables.\nhttp://www.agendabulle.fr/event/2026/5/
 22/2409-fraiseuse-numerique\nhttps://lacasemate.fr/programmation/initiatio
 n-a-la-fraiseuse-numerique-3/
IMAGE;VALUE=URI:http://www.agendabulle.fr/media/e152f417-3ab9-4ff7-b736-2c
 ec8477902d.jpg
LOCATION:La Casemate\, 2 place Saint-Laurent\, Grenoble
NAME:Fraiseuse numérique
END:VEVENT
END:VCALENDAR
