BEGIN:VCALENDAR
VERSION:2.0
PRODID:-//AgendaBulle//https://agendabulle.fr//
BEGIN:VEVENT
SUMMARY:SEVEN TOUR 
DTSTART;TZID=Europe/Paris:20260522T230000
DTEND;TZID=Europe/Paris:20260523T070000
DTSTAMP:20260422T221608Z
UID:eb423275e08e82b3b3bf47564ea509c7@agendabulle.fr
DESCRIPTION:SEVEN TOUR débarque pour la première fois au Drak’Art.\n\n
 Êtes-vous seulement prêts ?\n\nAprès avoir joué dans des clubs mythiqu
 es comme le Nexus\, le Spot Club\, le Social Club ou encore l’Arena Club
 \, ainsi que sur des festivals de renom\, nous arrivons à Grenoble pour v
 otre plus grand plaisir.\n\nLa line-up :\n\nZKU : https://www.instagram.co
 m/zku_exe?utm_source=ig_web_button_share_sheet&igsh=ZDNlZDc0MzIxNw==\n\nNK
 N : https://www.instagram.com/nkn.dnk?utm_source=ig_web_button_share_sheet
 &igsh=ZDNlZDc0MzIxNw==\n\nDEFAULT : https://www.instagram.com/default1.dj?
 utm_source=ig_web_button_share_sheet&igsh=ZDNlZDc0MzIxNw==\n\nSEVEN : http
 s://www.instagram.com/seven_lbl7?utm_source=ig_web_button_share_sheet&igsh
 =ZDNlZDc0MzIxNw==\n\nPréparez vos meilleurs pas de danse.\n\n✺ INFOS PR
 ATIQUES ✺\n\n🗓️ Vendredi 22 mai 2026\n⏰ 23h00 → 07h00\n📍 Le 
 Drak’Art - 163 Cours Berriat\, 38000 Grenoble (FR)\n\n\n🎟️ Billette
 rie : SHOTGUN\n\n🐥 Early Bird — 9€\n📣 Wild Call — 12€\n🚪 
 Sur Place — 14€ \n\n⸻\n\n🔊 Sound System : L-Acoustics\n💡 Light
  & Laser\n🍻 Bar + grande terrasse extérieure\n\n⸻\n\n🔞 Événemen
 t réservé aux personnes majeures (18+)\n🤝 Respect du lieu\, des artis
 tes et du public — espace de fête\, de partage et de bienveillance.\n
 🛡️ En cas de souci\, l’équipe WMP et la sécurité sont là pour t
 oi.\n⚠️ Attention aux faux comptes : billetterie uniquement via SHOTGU
 N (billets non remboursables mais échangeables selon les conditions de la
  plateforme)\nhttp://www.agendabulle.fr/event/2026/5/22/2388-seven-tour\nh
 ttps://www.facebook.com/events/1598894527890605/
IMAGE;VALUE=URI:http://www.agendabulle.fr/media/fa206f12-4c3c-4396-9291-3d
 0b20673d26.jpg
LOCATION:Le DRAK-ART\, 163 cours berriat\, 38000 Grenoble\, Grenoble
NAME:SEVEN TOUR 
END:VEVENT
END:VCALENDAR
