BEGIN:VCALENDAR
VERSION:2.0
PRODID:-//Agenda Bulle//https://agendabulle.fr//
BEGIN:VEVENT
SUMMARY:Vergnies
DTSTART;TZID=Europe/Paris:20260521T180000
DTEND;TZID=Europe/Paris:20260521T200000
DTSTAMP:20260426T031621Z
UID:3f0f3f6aefa84762db45da0e7e0d19bb@agendabulle.fr
DESCRIPTION:Dans le cadre de son partenariat avec le Ciel\, la bibliothèq
 ue Centre-Ville accueille pour la deuxième année des artistes en réside
 nce longue au Ciel\, sous la forme d’un concert-rencontre. Les artistes 
 présenteront une sélection de disques/livres/bds...\nhttps://www.agendab
 ulle.fr/event/2026/5/21/2566-vergnies\nhttps://bm-grenoble.fr/Default/doc/
 CALENDAR/3493/vergnies
IMAGE;VALUE=URI:https://www.agendabulle.fr/media/490ca632-30eb-47ae-97ac-6
 13bac0dcbdf.jpg
LOCATION:Bibliothèque Centre-Ville\, 10 Rue de la République\, 38000 Gre
 noble\, Grenoble
NAME:Vergnies
END:VEVENT
END:VCALENDAR
