BEGIN:VCALENDAR
VERSION:2.0
PRODID:-//Agenda Bulle//https://agendabulle.fr//
BEGIN:VEVENT
SUMMARY:Club lecture et conversation en anglais
DTSTART;TZID=Europe/Paris:20260521T173000
DTEND;TZID=Europe/Paris:20260521T193000
DTSTAMP:20260426T031620Z
UID:43b74dcde3db2090cc4550dea21c937f@agendabulle.fr
DESCRIPTION:If you like English\, come to discuss the English-speaking wor
 ld in all its forms : film\, books\, music\, games\, daily life\, and more
  !Cette année\, nous alternerons entre club de conversation et club de le
 cture. Le 16 octobre\, Dina organisera la mise en...\nhttps://www.agendabu
 lle.fr/event/2026/5/21/2565-club-lecture-et-conversation-en-anglais\nhttps
 ://bm-grenoble.fr/Default/doc/CALENDAR/2294/club-lecture-et-conversation-e
 n-anglais
IMAGE;VALUE=URI:https://www.agendabulle.fr/media/1e3469b6-2877-4c39-aca5-d
 87b1d093bcc.jpg
LOCATION:Bibliothèque municipale internationale\, 6 Pl. de Sfax\, 38000 G
 renoble\, Grenoble
NAME:Club lecture et conversation en anglais
END:VEVENT
END:VCALENDAR
