BEGIN:VCALENDAR
VERSION:2.0
PRODID:-//Agenda Bulle//https://agendabulle.fr//
BEGIN:VEVENT
SUMMARY:Club lecture Colombine
DTSTART;TZID=Europe/Paris:20260521T160000
DTEND;TZID=Europe/Paris:20260521T180000
DTSTAMP:20260425T031626Z
UID:685f6aadac77a5b6f036395e7f4605fa@agendabulle.fr
DESCRIPTION:Envie de participer ? Renseignez-vous auprès des bibliothéca
 ires.\nhttps://www.agendabulle.fr/event/2026/5/21/2559-club-lecture-colomb
 ine\nhttps://bm-grenoble.fr/Default/doc/CALENDAR/2052/club-lecture-colombi
 ne
IMAGE;VALUE=URI:https://www.agendabulle.fr/media/04742147-a5a3-490d-9c15-3
 317c8e4e697.jpg
LOCATION:Bibliothèque Colombine\, 97 Gal de l'Arlequin\, 38100 Grenoble\,
  Grenoble
NAME:Club lecture Colombine
END:VEVENT
END:VCALENDAR
