BEGIN:VCALENDAR
VERSION:2.0
PRODID:-//AgendaBulle//https://agendabulle.fr//
BEGIN:VEVENT
SUMMARY:Solaris
DTSTART;TZID=Europe/Paris:20260521T200000
DTEND;TZID=Europe/Paris:20260521T220000
DTSTAMP:20260422T223915Z
UID:4b38a79d37d8ea08abb384dda8ade4a0@agendabulle.fr
DESCRIPTION:Solaris est une référence majeure de la littérature de scie
 nce-fiction. Pour cette adaptation liant musique et vidéo\, Jacques Perco
 nte\, figure internationale de l’art visuel\, retrouve le compositeur Ot
 hman Louati.\n\nDepuis leur premier opéra-vidéo en 2017\, le compositeur
  prodige Othman Louati et le vidéaste génial Jacques Perconte poursuiven
 t un travail commun qui explore les frontières du réel à travers une mu
 sicalité immersive. Aujourd’hui\, ils adaptent Solaris \, roman poétiq
 ue et hypnotique qui relèverait presque de la métaphysique sur l’incon
 nu. L’ouvrage raconte l’observation scientifique d’une mystérieuse 
 planète en orbite autour de deux soleils\, recouverte d’un océan de ma
 tière protoplasmique qui semble dotée d’une forme d’intelligence. En
  présentant un miroir de l’humanité et de la Terre\, le roman trouve a
 ujourd’hui une résonance particulière à l’heure de l’anthropocèn
 e et de la prise de conscience du désastre écologique. L’opéra-vidéo
  pour voix et ensemble sonorisé de Jacques Perconte et Othman Louati nous
  invite à nous observer et à nous questionner\, dans le trouble du réel
 \, sur notre propre astre en dérive dans l’infini de l’espace.\nhttp:
 //www.agendabulle.fr/event/2026/5/21/2439-solaris\nhttps://www.mc2grenoble
 .fr/spectacle/solaris-3/
IMAGE;VALUE=URI:http://www.agendabulle.fr/media/35fde9b2-b0ae-463d-b8f2-c1
 0331cfbca0.jpg
LOCATION:MC2 Grenoble\, 4 Rue Paul Claudel\, 38100 Grenoble\, Grenoble
NAME:Solaris
END:VEVENT
END:VCALENDAR
