BEGIN:VCALENDAR
VERSION:2.0
PRODID:-//AgendaBulle//https://agendabulle.fr//
BEGIN:VEVENT
SUMMARY:Eclats de vie / Concert
DTSTART;TZID=Europe/Paris:20260521T200000
DTEND;TZID=Europe/Paris:20260521T220000
DTSTAMP:20260422T223020Z
UID:b6ff43a2de6f2ea1727f8dd176762af4@agendabulle.fr
DESCRIPTION:Venez écouter le concert de fin d’année universitaire de l
 ’ensemble vocal "Les Rainbow Swingers" qui vous propose cette année un 
 spectacle aux reflets changeants. La centaine de choristes\, réunis sur l
 a scène de l'Amphidice\, vous fera miroiter des moments de choeur et d'ai
 lleurs. Dans leur répertoire de chants du monde et leurs espiègleries\, 
 ce sont les échos de la vie que l'on perçoit\, de la vie dans tous ses 
 éclats. Direction : Nila Djadavjee Piano : Thierry Lechevalier Infos prat
 iques : Événement gratuit\, sur réservation\, ouvert à toutes et tous.
  Réservez vos places dès maintenant ! Crédits photo : © Les Rainbow Sw
 ingers\nhttp://www.agendabulle.fr/event/2026/5/21/2413-eclats-de-vie-conce
 rt\nhttps://www.univ-grenoble-alpes.fr/actualites/agenda/agenda-culture/ec
 lats-de-vie-concert-1747683.kjsp
IMAGE;VALUE=URI:http://www.agendabulle.fr/media/3397a7d6-8540-4938-b4d2-ae
 5d07e8e635.jpg
LOCATION:Amphidice\, 1316 Rue des Résidences\, Saint-Martin-d'Hères
NAME:Eclats de vie / Concert
END:VEVENT
END:VCALENDAR
