BEGIN:VCALENDAR
VERSION:2.0
PRODID:-//Agenda Bulle//https://agendabulle.fr//
BEGIN:VEVENT
SUMMARY:Les ateliers créatifs
DTSTART;TZID=Europe/Paris:20260520T150000
DTEND;TZID=Europe/Paris:20260520T170000
DTSTAMP:20260424T031632Z
UID:41f02cb359120ffc2148b9b309fe8808@agendabulle.fr
DESCRIPTION:Des ateliers créatifs pour libérer votre créativité et par
 tager un moment convivial !Que vous soyez jeune ou moins jeune\, venez exp
 lorer une multitude de thématiques et de supports variés.\nhttps://www.a
 gendabulle.fr/event/2026/5/20/2486-les-ateliers-creatifs\nhttps://bm-greno
 ble.fr/Default/doc/CALENDAR/2064/les-ateliers-creatifs
IMAGE;VALUE=URI:https://www.agendabulle.fr/media/19e7a259-e56d-472a-bc03-6
 8c56b1398f9.jpg
LOCATION:Bibliothèque Colombine\, 97 Gal de l'Arlequin\, 38100 Grenoble\,
  Grenoble
NAME:Les ateliers créatifs
END:VEVENT
END:VCALENDAR
