BEGIN:VCALENDAR
VERSION:2.0
PRODID:-//Agenda Bulle//https://agendabulle.fr//
BEGIN:VEVENT
SUMMARY:Appuie sur start Vivian Maier
DTSTART;TZID=Europe/Paris:20260520T150000
DTEND;TZID=Europe/Paris:20260520T170000
DTSTAMP:20260424T031632Z
UID:34a06a26e43b8aac9831c84151f67e72@agendabulle.fr
DESCRIPTION:Jeux vidéo en bibliothèqueLa bibliothèque Teisseire Malherb
 e accueille les joueuses et les joueurs un mercredi après-midi par mois\,
  de septembre à juin.Sans inscription préalable\, ces séances de jeux v
 idéo sur console vous permettent de jouer à plusi...\nhttps://www.agenda
 bulle.fr/event/2026/5/20/2485-appuie-sur-start-vivian-maier\nhttps://bm-gr
 enoble.fr/Default/doc/CALENDAR/1797/appuie-sur-start-vivian-maier
IMAGE;VALUE=URI:https://www.agendabulle.fr/media/d6b76ec3-2926-4c73-a6dd-e
 97d718d813c.jpg
LOCATION:Bibliothèque Vivian Maier\, 12 All. Charles Pranard\, 38000 Gren
 oble\, Grenoble
NAME:Appuie sur start Vivian Maier
END:VEVENT
END:VCALENDAR
