BEGIN:VCALENDAR
VERSION:2.0
PRODID:-//AgendaBulle//https://agendabulle.fr//
BEGIN:VEVENT
SUMMARY:Critique de la valeur-dissociation Grenoble
DTSTART;VALUE=DATE:20260520
DTEND;VALUE=DATE:20260520
DTSTAMP:20260423T055629Z
UID:476fe81cdaa4ff2fa1571cf59734a773@agendabulle.fr
DESCRIPTION:Critique de la valeur-dissociation Grenoble\n\nPour le mois de
  mai\, nous discuterons autour du texte de Daniel Feldmann\, paru dans le 
 recueil Le Péril Antisémite\, aux éditions Crise & Critique:\n\nL’ant
 isémitisme comme idéologie de crise: De « l’inconscient collectif a
 ntijuif » à la critique sans conscience du capitalisme\n\nPlus d'info 
 sur: https://www.cvgrenoble.bee.wf/\nhttp://www.agendabulle.fr/event/2026/
 5/20/2470-critique-de-la-valeur-dissociation-grenoble\nhttp://www.cvgrenob
 le.bee.wf
IMAGE;VALUE=URI:http://www.agendabulle.fr/media/image_1488848_20260410_ob_
 638670_couv-1ere-peril-antisemite_IcQb02w.jpg
LOCATION:Le Bar Radis\, 15 rue Gustave Flaubert\, grenoble
NAME:Critique de la valeur-dissociation Grenoble
END:VEVENT
END:VCALENDAR
