BEGIN:VCALENDAR
VERSION:2.0
PRODID:-//AgendaBulle//https://agendabulle.fr//
BEGIN:VEVENT
SUMMARY:Formation au Porteur de Paroles#2
DTSTART;TZID=Europe/Paris:20260502T160000
DTEND;TZID=Europe/Paris:20260502T180000
DTSTAMP:20260420T131838Z
UID:d931d9ba723426b295036b126df23eef@agendabulle.fr
DESCRIPTION:Outil d'éducation populaire\, le Porteur de Parole consiste 
 à poser une question dans l'espace commun\, inviter les passants à répo
 ndre et à faire trace de leur réponse sur le lieu même du recueil.\n\nP
 etit à petit les différentes réponses basées sur différents vécus s'
 affichent et laissent entrevoir la complexité de la question posée.\n\nF
 ormation Pratique : A l'occasion de l'événement de lancement de la saiso
 n à La Bifurk\, nous mettrons en pratique les notions abordées le 28/04 
 :\n\nAller-vers\n\nEntretien\n\nTrace\n\nEt après ?\nhttp://www.agendabul
 le.fr/event/2026/5/2/2330-formation-au-porteur-de-paroles2\nhttps://www.le
 -tamis.info/evenement/formation-au-porteur-de-paroles2
LOCATION:La Bifurk\, 2 rue Gustave Flaubert\, Grenoble\, France\, 38100\, 
 Grenoble
NAME:Formation au Porteur de Paroles#2
END:VEVENT
END:VCALENDAR
