BEGIN:VCALENDAR
VERSION:2.0
PRODID:-//Agenda Bulle//https://agendabulle.fr//
BEGIN:VEVENT
SUMMARY:L'Éthique de Spinoza
DTSTART;TZID=Europe/Paris:20260519T183000
DTEND;TZID=Europe/Paris:20260519T203000
DTSTAMP:20260424T031632Z
UID:e8eada221d12edd0e59606055b25fa67@agendabulle.fr
DESCRIPTION:Nous ne pouvons laisser de côté la question de la conduite d
 e notre vie. Dans le brouillard contemporain\, il est souvent fait référ
 ence à un philosophe du XVIIe siècle\, Spinoza.Faisons confiance à notr
 e raison : cela pourrait résumer son intention\, c...\nhttps://www.agenda
 bulle.fr/event/2026/5/19/2484-lethique-de-spinoza\nhttps://bm-grenoble.fr/
 Default/doc/CALENDAR/2568/l-ethique-de-spinoza
IMAGE;VALUE=URI:https://www.agendabulle.fr/media/b8d09924-99b6-45b1-b538-7
 eac5df0dd7b.jpg
LOCATION:Bibliothèque Centre-Ville\, 10 Rue de la République\, 38000 Gre
 noble\, Grenoble
NAME:L'Éthique de Spinoza
END:VEVENT
END:VCALENDAR
