BEGIN:VCALENDAR
VERSION:2.0
PRODID:-//Agenda Bulle//https://agendabulle.fr//
BEGIN:VEVENT
SUMMARY:Parlons santé !
DTSTART;TZID=Europe/Paris:20260519T140000
DTEND;TZID=Europe/Paris:20260519T160000
DTSTAMP:20260424T031632Z
UID:babbd6500bdeb13e44525415d963c326@agendabulle.fr
DESCRIPTION:Le Printemps de la santé de la CPTS de Grenoble s’invite da
 ns les bibliothèques avec des rendez-vous gratuits\, ouverts à toutes et
  tous\, sans inscription. Venez échanger simplement avec des professionne
 l·le·s de santé lors de temps “Parlons Santé” au...\nhttps://www.a
 gendabulle.fr/event/2026/5/19/2483-parlons-sante\nhttps://bm-grenoble.fr/D
 efault/doc/CALENDAR/3386/parlons-sante
IMAGE;VALUE=URI:https://www.agendabulle.fr/media/7cdbad20-f937-492d-8201-2
 dabd1125266.jpg
LOCATION:Bibliothèque Kateb Yacine\, 1 Cour des Erables\, 38100 Grenoble\
 , Grenoble
NAME:Parlons santé !
END:VEVENT
END:VCALENDAR
