BEGIN:VCALENDAR
VERSION:2.0
PRODID:-//AgendaBulle//https://agendabulle.fr//
BEGIN:VEVENT
SUMMARY:PHILOSOPHIE "Sommes-nous tous racistes ?"
DTSTART;TZID=Europe/Paris:20260519T183000
DTEND;TZID=Europe/Paris:20260519T203000
DTSTAMP:20260422T222244Z
UID:1657dc47f836c9fa95b998666161156b@agendabulle.fr
DESCRIPTION:Mardi 19 mai 2026 à 18h30\n \nAPERO PHILO « Sommes-nous tous
  racistes ?» \n« Le racisme est une manière de déléguer à l’autre 
 le dégoût qu’on a de soi-même » Robert Sabatier \n\nLa question ne v
 ise pas à accuser\, mais à comprendre pourquoi\, qu'il soit ethnique\, r
 eligieux\, sexuel\, physique ou âgiste\, le racisme est partout ?\n\nMari
 e-Laure nous présentera le sujet. Vos questions et réflexions\, dans le 
 respect et la bonne ambiance\, animeront le débat. \n\nOuvert à tous san
 s inscription  -  Consommation obligatoire\n\n1001 Feuilles - Café Litté
 raire\n1\, rue chenoise - GRENOBLE \n\n#cafélittéraire #caféspécialit
 é #philosophie #philo #Réflexion #discussion #débat #racisme #discrimin
 ation #exclusion #inclusion #grenoblemetropole #grenoblecity #grenoble \nh
 ttp://www.agendabulle.fr/event/2026/5/19/2410-philosophie-sommes-nous-tous
 -racistes\nhttps://www.facebook.com/events/2421562351677547/
IMAGE;VALUE=URI:http://www.agendabulle.fr/media/534d888f-f397-4082-9604-1f
 fbb967a849.jpg
LOCATION:1001 Feuilles - Café Littéraire\, 1\, rue chenoise - GRENOBLE\,
  Grenoble
NAME:PHILOSOPHIE "Sommes-nous tous racistes ?"
END:VEVENT
END:VCALENDAR
