BEGIN:VCALENDAR
VERSION:2.0
PRODID:-//AgendaBulle//https://agendabulle.fr//
BEGIN:VEVENT
SUMMARY:Open Lab
DTSTART;TZID=Europe/Paris:20260519T180000
DTEND;TZID=Europe/Paris:20260519T210000
DTSTAMP:20260422T222107Z
UID:19f4d41c29e3b0f5d9b26f67446b8014@agendabulle.fr
DESCRIPTION:Les Open Labs reprennent à La Casemate ! Moments d'échanges 
 entre makers\, c'est aussi l'occasion pour des novices de découvrir la fa
 brication numérique au Fab Lab de La Casemate.    Vous pouvez venir faire
  des tests gratuitement sur les différentes machines du Fab Lab (Découpe
  Laser\, Découpe Vinyle\, Imprimante 3D\, brodeuse à commande numérique
 \, atelier de couture\, atelier de bricolage\, scanner 3D\, fraiseuse CNC\
 , etc. ) sur des créneaux de 15/20 mins.    Nous souhaitons que tout le m
 onde puisse en profiter !         Inscription         ATTENTION\, il est o
 bligatoire d'avoir suivi une formation pour utiliser les machines.    Vene
 z avec vos matériaux (liège\, papier\, tissu\, carton\, contreplaqué\, 
 etc.) ou votre Carte Matériaux (à acheter à l'accueil de La Casemate) p
 our pouvoir acheter directement au Fab Lab.    Nous proposons nos chutes g
 ratuitement pour faire des tests. (A voir sur place).\nhttp://www.agendabu
 lle.fr/event/2026/5/19/2408-open-lab\nhttps://lacasemate.fr/programmation/
 open-lab-66/
IMAGE;VALUE=URI:http://www.agendabulle.fr/media/a55c32d1-0abb-4e6e-ba73-fb
 3f6427f9a4.jpg
LOCATION:La Casemate\, 2 place Saint-Laurent\, Grenoble
NAME:Open Lab
END:VEVENT
END:VCALENDAR
