BEGIN:VCALENDAR
VERSION:2.0
PRODID:-//AgendaBulle//https://agendabulle.fr//
BEGIN:VEVENT
SUMMARY:❮❮❮❮❮ MUSIQUE EN ROBE DE CHAMBRE avec le CONSERVATOIRE D
 E GRENOBLE ❯❯❯❯❯ Dim 17 Mai - 10:30
DTSTART;TZID=Europe/Paris:20260517T103000
DTEND;TZID=Europe/Paris:20260517T123000
DTSTAMP:20260422T221731Z
UID:763ff4e74025413abfddc8debd4d64d0@agendabulle.fr
DESCRIPTION:📣 DIMANCHE 17 MAI À 10:30\n\n❮❮❮❮❮ MUSIQUE EN RO
 BE DE CHAMBRE avec le CONSERVATOIRE DE GRENOBLE ❯❯❯❯❯\n\nTout Pu
 blic \nparticipation à prix libre…mais nécessaire\n\n✦ avec le Quint
 ette Opus 307\n☞ https://barbarins.com/musiqueenrobedechambre/\n\nCher m
 élomane matinal\,\n\nVoici venue la 47ᵉ édition de Musique en robe de 
 chambre. \n\nEt cette fois\, nous confions nos oreilles encore endormies 
 à cinq jeunes musiciens talentueux : un quintette de cuivres.\n\nQuoi ! \
 nEncore des instruments à vent ? \nMais ces jeunes n’ont-ils rien de mi
 eux à faire que de souffler dans des tuyaux ? \n\nEt bien non ! Et c’es
 t pour notre plus grand plaisir qu’ils interpréteront un répertoire va
 rié\, concocté avec le plus grand soin.\n\nAlors venez découvrir le Qui
 ntette opus 307\, \net profitez bien sûr de tout ce qu’il faut pour bie
 n commencer la journée : thé\, café\, croissants… \net bonne humeur g
 arantie. \n\n\n▷ ouverture des portes 30 min avant l’heure annoncée. 
 ◁\n▷ tout public ◁\n\n\n►► 𝗩𝗘𝗡𝗜𝗥 𝗔̀ 𝗟𝗔 
 𝗦𝗔𝗟𝗟𝗘 𝗡𝗢𝗜𝗥𝗘 ◄◄\n𝗟𝗔 𝗦𝗔𝗟
 𝗟𝗘 𝗡𝗢𝗜𝗥𝗘 • 𝟭𝟵 𝗿𝘂𝗲 𝗱𝗲𝘀 𝗔
 𝗿𝘁𝘀 𝗲𝘁 𝗱𝗲𝘀 𝗠𝗲́𝘁𝗶𝗲𝗿𝘀\, 𝗚
 𝗿𝗲𝗻𝗼𝗯𝗹𝗲 \n• 𝗧𝗿𝗮𝗺 𝗔 (𝗕𝗲𝗿𝗿
 𝗶𝗮𝘁 𝗹𝗲 𝗠𝗮𝗴𝗮𝘀𝗶𝗻)\n• 𝗧𝗿𝗮𝗺 
 𝗖 (𝗩𝗮𝗹𝗹𝗶𝗲𝗿-𝗖𝗮𝘁𝗮𝗻𝗲)\n• 𝗕𝘂
 𝘀 𝗖𝟱 (𝗖𝗲́𝗺𝗼𝗶)\n\n\n►► infos@barbarins.com ◄
 ◄\n►► WWW.BARBARINS.COM ◄◄\n\nhttp://www.agendabulle.fr/event/20
 26/5/17/2389-musique-en-robe-de-chambre-avec-le-conservatoire-de-grenoble-
 dim-17-mai-1030\nhttps://www.facebook.com/events/1297006909060861/
IMAGE;VALUE=URI:http://www.agendabulle.fr/media/8d4d5745-4e8c-41d2-b401-f0
 c4c50f759a.jpg
LOCATION:La Salle Noire\, 19 rue des Arts et Métiers\, Grenoble
NAME:❮❮❮❮❮ MUSIQUE EN ROBE DE CHAMBRE avec le CONSERVATOIRE DE G
 RENOBLE ❯❯❯❯❯ Dim 17 Mai - 10:30
END:VEVENT
END:VCALENDAR
