BEGIN:VCALENDAR
VERSION:2.0
PRODID:-//AgendaBulle//https://agendabulle.fr//
BEGIN:VEVENT
SUMMARY:WE ❤️ TEKNO #5
DTSTART;TZID=Europe/Paris:20260516T230000
DTEND;TZID=Europe/Paris:20260517T064500
DTSTAMP:20260422T221607Z
UID:add47afcf22da89ee44830b31ab9e135@agendabulle.fr
DESCRIPTION:WE ❤️ TEKNO #5\n\nRendez-vous le samedi 16 mai 2026 à @le
 drakart pour une nouvelle session brute et éclectique signée Wild.\n\nPo
 ur cette édition\, on invite l'artiste et producteur : GEHLEKTEK ⚡\nAve
 c un Live Tekno sur machines bien rodé 😎 \n\nUne soirée résolument 
 éclectique\, entre prog bagarre\, tekno\, tribe et acidcore et plus.\nDu 
 contraste\, de la montée\, et une seule ligne directrice : l’intensité
  ⚡️⚡️⚡️\n\n⸻\n\n🎶 Line-Up Complete 🎶  \n\n▣ GEHLEKTE
 K (Guest) ⚡ LIVE  \n\n◆ SOURNOISE  \n◇ JOTSUKI  \n◆ WAREN  \n◇ L
 UNACID  \n◆ NASTIC (Live)\n◇ XPERIENCE K\n◆ NYAXXO\n\n⸻\n\n✺ INF
 OS PRATIQUES ✺  \n\n🗓️ Samedi 16 mai 2026  \n⏰ 23h00 → 07h00  \
 n📍 Le Drak’Art - 163 Cours Berriat\, 38000 Grenoble (FR)\n🔗 Lien :
  https://shotgun.live/fr/events/wmp-we-love-tekno-5\n\n🎟️ Billetterie
  : SHOTGUN\n\n🐥 Early Bird — 12€  \n📣 Wild Call — 13€  \n
 🚪 Sur Place — 15€ (à partir de 23h jusqu'à 04h — CB + Espèces)
 \n\n⸻\n\n🔊 Sound System : L-Acoustics  \n💡 Light & Laser \n🍻 Ba
 r + grande terrasse extérieure  \n\n⸻\n\n🔞 Événement réservé aux
  personnes majeures (18+)  \n🤝 Respect du lieu\, des artistes et du pub
 lic — espace de fête\, de partage et de bienveillance.  \n🛡️ En ca
 s de souci\, l’équipe WMP et la sécurité sont là pour toi.  \n⚠️
  Attention aux faux comptes : billetterie uniquement via SHOTGUN (billets 
 non remboursables mais échangeables selon les conditions de la plateforme
 )\n\n⸻\nStay Wild. 🔥🖤\nartwork by @smooth_passenger\n\n#WildMusicP
 roject #Tekno #Acid #Tribe #LiveSet #Grenoble #RaveCulture\nhttp://www.age
 ndabulle.fr/event/2026/5/16/2387-we-tekno-5\nhttps://www.facebook.com/even
 ts/969066192284609/
IMAGE;VALUE=URI:http://www.agendabulle.fr/media/10797ceb-7c1b-4209-a4c7-ce
 10d2166454.jpg
LOCATION:Le DRAK-ART\, 163 cours berriat\, 38000 Grenoble\, Grenoble
NAME:WE ❤️ TEKNO #5
END:VEVENT
END:VCALENDAR
