BEGIN:VCALENDAR
VERSION:2.0
PRODID:-//AgendaBulle//https://agendabulle.fr//
BEGIN:VEVENT
SUMMARY:Le Drak art invite ADN & Friends : Nocturnal Hypnosis [Techno - Ps
 ytrance - Darkpsy]
DTSTART;TZID=Europe/Paris:20260515T235900
DTEND;TZID=Europe/Paris:20260516T054500
DTSTAMP:20260422T221607Z
UID:c3e8d738412907e5d20b7f8f5db8a8ff@agendabulle.fr
DESCRIPTION:⫸ ⦓ ADN & Friends - Nocturnal Hypnosis ⦔ ⫷\n\n\nPlonge
  dans une nuit immersive où les sonorités électroniques rencontrent l
 ’hypnose visuelle. Nocturnal Hypnosis t’embarque dans un voyage progre
 ssif\, de l’electro world à la darkpsy\, porté par une scénographie e
 nvoûtante et un mapping captivant. Une expérience sensorielle intense\, 
 entre rythmes profonds\, énergies nocturnes et atmosphères psychédéliq
 ues.\n\n\n⫸ LINE UP ⫷\n\n\n⦿ 00H00 Hamcat vs Zibibovic (ADN Music)\n
 Style : Electro World / Live saxo\nSC : https://soundcloud.com/hamcatmusic
 \nSC : https://soundcloud.com/dolsax\n\n\n⦿ 01H00 Ghahghaie (ADN Music)\
 nStyle : Techno / Psytechno\nSC : https://soundcloud.com/ghashghaie\n\n\n
 ⦿ 02H15 Eryia (Insomnium)\nStyle : Psytrance\nSC : https://soundcloud.co
 m/eryia\n\n\n⦿ 03H30 Moule Cosmique (Insomnium)\nStyle : Live Psytrance\
 nSC : https://soundcloud.com/moule-cosmique\n\n\n⦿ 04H30 M.Ecko (ADN Mus
 ic)\nStyle : DarkPsy\nSC : https://soundcloud.com/meckowecko\n\n\n⦿ 05H4
 5 STOP\n\n\nScénographie hypnotique par Insomnium\nMapping par VJ Kernel\
 nGraphic design by : https://www.facebook.com/graphiste.kala.kah\n\n\n▬
 ▬▬\n\n\n⫸ PLUS D'INFOS ⫷\n✺ 00h00 - 06h00\n✺ 7€ sur place\, 
 pas de préventes\n✺ Interdit aux mineur.e.s\n✺ Le Drak-Art - 163 Cour
 s Berriat 38000 Grenoble See less\n\n\nMerci de respecter le lieu\, le voi
 sinage ainsi que les autres participant·e·s.\nAucun comportement violent
 \, sexiste\, raciste\, homophobe ou discriminatoire ne sera toléré.\nLa 
 direction se réserve le droit d’entrée.\nhttp://www.agendabulle.fr/eve
 nt/2026/5/15/2386-le-drak-art-invite-adn-friends-nocturnal-hypnosis-techno
 -psytrance-darkpsy\nhttps://www.facebook.com/events/1470764287887609/
IMAGE;VALUE=URI:http://www.agendabulle.fr/media/5df3473d-c740-484a-9e7d-37
 6c52be3053.jpg
LOCATION:Le DRAK-ART\, 163 cours berriat\, 38000 Grenoble\, Grenoble
NAME:Le Drak art invite ADN & Friends : Nocturnal Hypnosis [Techno - Psytr
 ance - Darkpsy]
END:VEVENT
END:VCALENDAR
