BEGIN:VCALENDAR
VERSION:2.0
PRODID:-//Agenda Bulle//https://agendabulle.fr//
BEGIN:VEVENT
SUMMARY:Temps des histoires
DTSTART;TZID=Europe/Paris:20260513T100000
DTEND;TZID=Europe/Paris:20260513T120000
DTSTAMP:20260424T031632Z
UID:66a39609bf2f8bbf07ac1d665033776a@agendabulle.fr
DESCRIPTION:Parce qu'on n'est jamais trop petit pour les grandes histoires
 ...Lors des séances "Grandes aventures" une fois par mois\, les livres s'
 animent en histoires et en comptines pour l'éveil des tout-petits.En plus
  de ces séances mensuels\, un petit format v...\nhttps://www.agendabulle.
 fr/event/2026/5/13/2482-temps-des-histoires\nhttps://bm-grenoble.fr/Defaul
 t/doc/CALENDAR/3035/temps-des-histoires
IMAGE;VALUE=URI:https://www.agendabulle.fr/media/d2b6652f-1de5-40a0-b6d1-b
 76c388abfe0.jpg
LOCATION:Bibliothèque Chantal Mauduit\, 78 Rue Anatole France\, 38100 Gre
 noble\, Grenoble
NAME:Temps des histoires
END:VEVENT
END:VCALENDAR
