BEGIN:VCALENDAR
VERSION:2.0
PRODID:-//AgendaBulle//https://agendabulle.fr//
BEGIN:VEVENT
SUMMARY:ASÄ TRIO ⌜chant traditionnel\, polyphonie et percussions⌟ 
DTSTART;TZID=Europe/Paris:20260513T203000
DTEND;TZID=Europe/Paris:20260513T223000
DTSTAMP:20260422T220627Z
UID:91ed30e01297f707747359896e0c6e9e@agendabulle.fr
DESCRIPTION:Asä Trio propose un voyage vocal polyphonique et percussif à
  travers un répertoire composé de chants traditionnels collectés lors d
 e voyages et rencontres en Europe\, de l'Occitanie aux pays des Balkans. A
  travers un travail d'arrangement mêlant les sonorités traditionnelles e
 t plus actuelles\, ces trois voix empreintes d'influences diverses inviten
 t à la contemplation de ce monde à la fois complexe et harmonieux. Rythm
 es incisifs et endiablés menant à la danse contrastent alors avec l'éch
 o aérien des voix\, invitant le public à fermer les yeux et à se laisse
 r porter par les récits de ces chants\, engagés et évocateurs de leurs 
 territoires.\n\n⤷ Pour les yeux : https://www.youtube.com/watch?v=dMGLrC
 aoWBY et https://www.youtube.com/watch?v=WT9BL-bDZyA\n⤷ Pour les oreille
 s :  https://tr.ee/VffuN7Eudd\n\n▸▹▸▹ Concert à prix libre ◃◂
 ◃◂\n\nPour permettre à tout le monde d'y assister ! Mais sans ta part
 icipation\, les artistes ne seront pas payés pour leur travail. Alors\, n
 'oublies pas de prendre un peu de monnaie <3\nhttp://www.agendabulle.fr/ev
 ent/2026/5/13/2380-asa-trio-chant-traditionnel-polyphonie-et-percussions\n
 https://www.facebook.com/events/1288744025997968/
LOCATION:Trankilou\, 45 Bd Joseph Vallier\, Grenoble
NAME:ASÄ TRIO ⌜chant traditionnel\, polyphonie et percussions⌟ 
END:VEVENT
END:VCALENDAR
