BEGIN:VCALENDAR
VERSION:2.0
PRODID:-//AgendaBulle//https://agendabulle.fr//
BEGIN:VEVENT
SUMMARY:Critique de la valeur-dissociation Grenoble
DTSTART;VALUE=DATE:20260513
DTEND;VALUE=DATE:20260513
DTSTAMP:20260422T173706Z
UID:a79d19afcdd9efab203ff1079d8c5d55@agendabulle.fr
DESCRIPTION:Critique de la valeur-dissociation Grenoble\n\nPour le mois de
  mai\, nous discuterons autour du texte de Daniel Feldmann\, paru dans le 
 recueil Le Péril Antisémite\, aux éditions Crise & Critique:\n\nL’ant
 isémitisme comme idéologie de crise: De « l’inconscient collectif a
 ntijuif » à la critique sans conscience du capitalisme\n\nPlus d'info 
 sur:       https://www.cvgrenoble.bee.wf/\nhttp://www.agendabulle.fr/event
 /2026/5/13/2374-critique-de-la-valeur-dissociation-grenoble\nhttps://www.c
 vgrenoble.bee.wf/
IMAGE;VALUE=URI:http://www.agendabulle.fr/media/image_1488848_20260410_ob_
 638670_couv-1ere-peril-antisemite_yhJZqLj.jpg
LOCATION:Le Bar Radis\, 15 rue Gustave Flaubert\, grenoble
NAME:Critique de la valeur-dissociation Grenoble
END:VEVENT
END:VCALENDAR
