BEGIN:VCALENDAR
VERSION:2.0
PRODID:-//Agenda Bulle//https://agendabulle.fr//
BEGIN:VEVENT
SUMMARY:Non\, vous n’avez pas toujours été nul en math...
DTSTART;TZID=Europe/Paris:20260512T190000
DTEND;TZID=Europe/Paris:20260512T210000
DTSTAMP:20260424T031632Z
UID:8833c447bea3f751e141eba48e50e91e@agendabulle.fr
DESCRIPTION:L’idée qu’il existerait une « bosse des maths »\, que c
 ertains possèdent et d’autres non\, flotte toujours dans l’air dans n
 os sociétés. Cette attribution “d'échec inévitable” est rapidement
  intégrée par les enfants qui\, par auto-prophétie\, en viennent...\nht
 tps://www.agendabulle.fr/event/2026/5/12/2481-non-vous-navez-pas-toujours-
 ete-nul-en-math\nhttps://bm-grenoble.fr/Default/doc/CALENDAR/2658/non-vous
 -n-avez-pas-toujours-ete-nul-en-maths
IMAGE;VALUE=URI:https://www.agendabulle.fr/media/0ff5af91-93fd-46d8-861a-2
 6270a2f2284.jpg
LOCATION:Bibliothèque d’étude et du patrimoine\, 12 Bd Maréchal Lyaut
 ey 38000 Grenoble\, Grenoble
NAME:Non\, vous n’avez pas toujours été nul en math...
END:VEVENT
END:VCALENDAR
