BEGIN:VCALENDAR
VERSION:2.0
PRODID:-//Agenda Bulle//https://agendabulle.fr//
BEGIN:VEVENT
SUMMARY:L'Éthique de Spinoza
DTSTART;TZID=Europe/Paris:20260512T183000
DTEND;TZID=Europe/Paris:20260512T203000
DTSTAMP:20260424T031631Z
UID:e185d752e97bbfe68b5892f4611ed18b@agendabulle.fr
DESCRIPTION:Nous ne pouvons laisser de côté la question de la conduite d
 e notre vie. Dans le brouillard contemporain\, il est souvent fait référ
 ence à un philosophe du XVIIe siècle\, Spinoza.Faisons confiance à notr
 e raison : cela pourrait résumer son intention\, c...\nhttps://www.agenda
 bulle.fr/event/2026/5/12/2480-lethique-de-spinoza\nhttps://bm-grenoble.fr/
 Default/doc/CALENDAR/2567/l-ethique-de-spinoza
IMAGE;VALUE=URI:https://www.agendabulle.fr/media/e35bb7a3-7309-4633-9b8b-d
 8d7ad2513c7.jpg
LOCATION:Bibliothèque Centre-Ville\, 10 Rue de la République\, 38000 Gre
 noble\, Grenoble
NAME:L'Éthique de Spinoza
END:VEVENT
END:VCALENDAR
