BEGIN:VCALENDAR
VERSION:2.0
PRODID:-//AgendaBulle//https://agendabulle.fr//
BEGIN:VEVENT
SUMMARY:Ateliers d'écriture féministes
DTSTART;TZID=Europe/Paris:20260512T183000
DTEND;TZID=Europe/Paris:20260512T203000
DTSTAMP:20260422T224445Z
UID:1961818476043304bc75b4a5bb8c136d@agendabulle.fr
DESCRIPTION:"Les mots ciments" un cycle d'ateliers d'écriture ludique\, c
 réative et féministes en mixité choisie proposé par l'association Ancr
 age\, animé par tom (@tomecrit_)\n\nLe cycle "les mots ciments"\, qu'est-
 ce que c'est?\n\nDes ateliers pensés comme des moments pour s’exprimer 
 et construire ensemble\, créer des récits et des liens. Ces espaces en m
 ixité choisie s'adressent aux femmes cis et trans\, personnes non-binaire
 s et intersexes à partir de 17 ans. Les ateliers d’écriture créative\
 , dynamique et mouvementée sont basés sur le jeu et le groupe\, dans une
  dynamique de créativité sans objectifs de performance\, dans un cadre s
 e voulant soutenant et accueillant. Les titres des ateliers peuvent semble
 r larges\, effrayants\, obscurs\, abstraits\, ils sont seulement un fil di
 recteurs et un thème de fond. Les étapes sont conçues pour que chacun.e
  trouve une direction à explorer\, dans laquelle se sentir à l'aise!:)\n
 \nAucune compétence ni aisance particulière à l'écrit ne sont nécessa
 ires\n\nInfos pratiques - questions et inscriptions par mail tomecrit@mail
 o.com - de 18h30 à 20h30 à la maison des associations rue berthe de bois
 sieux\, Grenoble (accès PMR) - à prix libre en soutien à l'association 
 Ancrage - des aménagements en cas de situations de handicap/besoins spéc
 ifiques sont possibles\, ne surtout pas hésiter à me contacter\n\nhttps:
 //ancrage-prevention.fr/lassociation/nous-decouvrir/\n\nDeux ateliers avan
 t la fin de l'année scolaire :\n\n- mardi 31 mars " de l'écosystème cor
 ps à l'écosystème monde : ponts et liens"\n\n- mardi 12 mai " faire soc
 iété autrement : explorer la notion de subsistance"\n\n(ne pas hésiter 
 à me contacter pour tout projet d'ateliers à animer!)\nhttp://www.agenda
 bulle.fr/event/2026/5/12/2459-ateliers-decriture-feministes\nhttps://www.l
 e-tamis.info/evenement/ateliers-decriture-feministes-1
LOCATION:Maison de la Vie Associative et Citoyenne\, 6 Rue Berthe de Boiss
 ieux\, Grenoble
NAME:Ateliers d'écriture féministes
END:VEVENT
END:VCALENDAR
