BEGIN:VCALENDAR
VERSION:2.0
PRODID:-//AgendaBulle//https://agendabulle.fr//
BEGIN:VEVENT
SUMMARY:Feu! Chatterton
DTSTART;TZID=Europe/Paris:20260512T200000
DTEND;TZID=Europe/Paris:20260512T220000
DTSTAMP:20260422T223915Z
UID:c472677f611a8bb1efe425024b831b05@agendabulle.fr
DESCRIPTION:Depuis son premier album en 2015\, Feu! Chatterton électrise 
 la scène musicale en mariant un rock ciselé au cordeau avec la verve env
 oûtante de la chanson française. Une fusion brûlante\, aussi audacieuse
  qu’irrésistible.\n\nCe groupe parisien\, fondé en 2011 par cinq amis 
 de lycée\, se place sous l’égide du poète anglais Thomas Chatterton (
 1752-1770)\, artiste maudit\, pionnier du romantisme naissant\, qui se sui
 cida à l’âge de 17 ans. Ce sont pourtant bien des textes en français\
 , ceux d’Arthur Teboul\, que sert la musique\, d’une grande finesse : 
 un rock savamment saupoudré d’accents électro. En concert\, l’alchim
 ie de Feu! Chatterton fait merveille\, conduite par le magnétisme et la v
 oix grave\, rauque et chaleureuse d’Arthur Teboul. On la qualifie parfoi
 s de rock littéraire ou poétique\, mais c’est tout simplement l’hér
 itage bien vivant d’une histoire si française\, celle de la chanson à 
 texte.\n\nLe concert de Feu! Chatterton qui devait se produire le mardi 02
  décembre 2025 à la MC2 est décalé au mardi 12 mai 2026 à 20h.\nhttp:
 //www.agendabulle.fr/event/2026/5/12/2438-feu-chatterton\nhttps://www.mc2g
 renoble.fr/spectacle/feu-chatterton/
IMAGE;VALUE=URI:http://www.agendabulle.fr/media/225fb7cd-5617-4dfc-815a-e6
 becb4dab47.jpg
LOCATION:MC2 Grenoble\, 4 Rue Paul Claudel\, 38100 Grenoble\, Grenoble
NAME:Feu! Chatterton
END:VEVENT
END:VCALENDAR
