BEGIN:VCALENDAR
VERSION:2.0
PRODID:-//AgendaBulle//https://agendabulle.fr//
BEGIN:VEVENT
SUMMARY:LA TRANKILOU JAM  ⌜blues\, swing\, jazz\, groove⌟
DTSTART;TZID=Europe/Paris:20260512T200000
DTEND;TZID=Europe/Paris:20260512T220000
DTSTAMP:20260422T220627Z
UID:2da596382bec43def5726208f5fdd6d1@agendabulle.fr
DESCRIPTION:La jam du TranKilou c’est un espace sonore encadré par John
 ny Sunshine pour venir expérimenter en groupe des musiques improvisées.\
 n\nÀ disposition sur place\, une basse\, une guitare et une batterie et d
 eux micros chant.\nhttp://www.agendabulle.fr/event/2026/5/12/2379-la-trank
 ilou-jam-blues-swing-jazz-groove\nhttps://www.facebook.com/events/12789093
 90973642/
IMAGE;VALUE=URI:http://www.agendabulle.fr/media/7fbde055-d277-4b37-ac05-a2
 438444276b.jpg
LOCATION:Trankilou\, 45 Bd Joseph Vallier\, Grenoble
NAME:LA TRANKILOU JAM  ⌜blues\, swing\, jazz\, groove⌟
END:VEVENT
END:VCALENDAR
