BEGIN:VCALENDAR
VERSION:2.0
PRODID:-//AgendaBulle//https://agendabulle.fr//
BEGIN:VEVENT
SUMMARY:Blint test avec Mister BT 
DTSTART;TZID=Europe/Paris:20260512T190000
DTEND;TZID=Europe/Paris:20260512T210000
DTSTAMP:20260422T220542Z
UID:bb853f4ec98f3366f5c7dc7fde0eabc0@agendabulle.fr
DESCRIPTION:Les Blind Tests de Mister BT continuent au Minimistan pour dé
 fier votre répertoire musical !\n\n\nN’oubliez pas de réserver votre t
 able à l’avance pour être sûr d’avoir une place 👇\n–> https://
 bookings.zenchef.com/results?rid=362177\nEt lors de votre réservation sur
  Zenchef\, précisez bien en commentaire que c’est pour le Blind test !\
 n\n\nLe jeu se fait en équipe\, alors rassemblez vos ami.e.s et préparez
  vos oreilles musicales !\n\n\n📆 Mardi 12 mai\n🕟 19h\n📍 Minimista
 n (Rue des Minimes\, 38000 Grenoble)\n🎟️ Gratuit sur réservation\nht
 tp://www.agendabulle.fr/event/2026/5/12/2378-blint-test-avec-mister-bt\nht
 tps://www.facebook.com/events/1517293406664316/
IMAGE;VALUE=URI:http://www.agendabulle.fr/media/6100e690-eca7-46ad-974e-d0
 f706e39f8a.jpg
LOCATION:Minimistan\, 1 rue des minimes\, grenoble
NAME:Blint test avec Mister BT 
END:VEVENT
END:VCALENDAR
