BEGIN:VCALENDAR
VERSION:2.0
PRODID:-//Agenda Bulle//https://agendabulle.fr//
BEGIN:VEVENT
SUMMARY:Pierre Lapointe + Alice on the Roof à La Belle Electrique
DTSTART;TZID=Europe/Paris:20260511T200000
DTEND;TZID=Europe/Paris:20260511T220000
DTSTAMP:20260426T031609Z
UID:bc4458017a5fa15c9e4dd87b157e5958@agendabulle.fr
DESCRIPTION:⬛ 𝗣𝗜𝗘𝗥𝗥𝗘 𝗟𝗔𝗣𝗢𝗜𝗡𝗧𝗘\
 n\nAprès un album foisonnant\, Pierre Lapointe revient avec un spectacle 
 étonnant où la virtuosité du duo de pianistes Fortin-Poirier mettra en 
 valeur son répertoire dans la vraie tradition de la chanson. Un spectacle
  qui oscillera entre les rires et les larmes\, comme seul Pierre Lapointe 
 sait le faire.\n\n🔊 https://www.youtube.com/watch?v=Jt5OXKPVRQQ\n\n⬛ 
 𝗔𝗟𝗜𝗖𝗘 𝗢𝗡 𝗧𝗛𝗘 𝗥𝗢𝗢𝗙\n\nIl était u
 ne voix… Celle d'Alice on the Roof\, tantôt claire et cristalline comme
  l’enfance\, tantôt traversée des douces craquelures de la mélancolie
 . Alice on the Roof a\, quand elle chante\, la magie des grands de la pop 
 Scandinave qui l’inspirent : de Sigur Ros à Lykke Li\, de Emilie Nicola
 s à Agnes Obel. Les mots justes\, l’artiste aux cheveux roses les trouv
 e toujours derrière son piano\, quand ils lui échappent à la ville... 
 À trente ans\, pressée d’en découdre avec sa timidité\, cette figure
  désormais incontournable de la pop belge lève le dernier voile de la pu
 deur.\n\n🔊 https://www.youtube.com/watch?v=x0O7u1CPBXU\n\n-------------
 -------------\n\n🔸 En savoir plus : https://www.la-belle-electrique.com
 /fr/agenda/pierre-lapointe\n\n🎫 BILLETTERIE : https://billetterie.la-be
 lle-electrique.com/agenda/682-Pierre-Lapointe?session=682\n\n©DR\n\n\n▬
 ▬▬▬ LE LIEU DE VIE EN BREF ▬▬▬▬\n\n• 🕑 Du mardi au same
 di de 10h à 01h\, mais également les autres jours à partir de 18h si un
  concert est programmé.\n\n• 📅 La programmation du bar ce sont : des
  concerts\, des Djs sets\, des expositions...!\n\n• 🍔 🍷 En soirée
  pour vos apéros\, l'équipe du bar vous propose sa carte de bières loca
 les et cocktails ainsi que des appetizers à déguster sur place. Profitez
 -en !\n\n▬▬▬▬▬\n\n✓ OUVERTURE des portes à 19h\, début du co
 ncert à 20h.\n✓ TRANSPORTS EN COMMUN : tramway A ou bus C5 arrêt “Be
 rriat - Le Magasin”. / Train : Depuis la Gare de Grenoble\, tramway A en
  direction de “Fontaine La Poya”.\n✓ VÉLO : 300 arceaux disponibles
 .\n✓ VOITURE : Parking relais Vallier Catane ➣ https://bit.ly/3eM8vff 
 / Square des Fusillés / Proche rue Ampère\n✓ Questions billetterie : a
 ccueil.billetterie@la-belle-electrique.com\n✓ Horaires accueil billetter
 ie : du mercredi au vendredi de 16h à 18h.\nhttps://www.agendabulle.fr/ev
 ent/2026/5/11/2564-pierre-lapointe-alice-on-the-roof-a-la-belle-electrique
 \nhttps://www.facebook.com/events/838187675599975/
IMAGE;VALUE=URI:https://www.agendabulle.fr/media/0f7ae362-3aed-4756-b9a2-8
 8125c3efc20.jpg
LOCATION:La belle electrique\, 12 esplanade Andry Farcy\, Grenoble
NAME:Pierre Lapointe + Alice on the Roof à La Belle Electrique
END:VEVENT
END:VCALENDAR
