BEGIN:VCALENDAR
VERSION:2.0
PRODID:-//AgendaBulle//https://agendabulle.fr//
BEGIN:VEVENT
SUMMARY:WHAT’S LOVE ? LOW LOV + BENJAMIN SEROR
DTSTART;TZID=Europe/Paris:20260511T203000
DTEND;TZID=Europe/Paris:20260511T223000
DTSTAMP:20260422T222513Z
UID:40c53d5c2f7ed917d108a1b8b263a515@agendabulle.fr
DESCRIPTION:Concert et séance d’écoute en partenariat avec l’ÉSAD 
 • Grenoble • Valence et l’ÉSACM\, dans le cadre du projet de recher
 che Radar « What’s Love Got to Do with It? Émotions\, musique et prati
 ques de narration expérimentale »\, soutenu par le ministère de la Cult
 ure.Comment notre expérience d’écoute façonne-t-elle nos émotions et
  notre manière de penser nos relations aux autres ? Ce projet de recherch
 e tente de mieux comprendre comment\, à travers le prisme de la musique\,
  nos émotions nous informent sur le monde. Cette soirée au Ciel s’atta
 che à explorer les liens entre musiques\, affects et récits collectifs\,
  en interrogeant également leur articulation avec les dynamiques de domin
 ation et les processus d’émancipation.\n\nTarif : 7€/Gratuit pour les
  adhérent·es\nhttp://www.agendabulle.fr/event/2026/5/11/2411-whats-love-
 low-lov-benjamin-seror\nhttps://le-ciel.fr/event/whats-love-low-lov-benjam
 in-seror/
IMAGE;VALUE=URI:http://www.agendabulle.fr/media/84508127-fcab-4425-a6e2-a9
 5534970b56.jpg
LOCATION:Le Ciel\, 2 Rue Général Marchand\, Grenoble
NAME:WHAT’S LOVE ? LOW LOV + BENJAMIN SEROR
END:VEVENT
END:VCALENDAR
